BEGIN:VCALENDAR
VERSION:2.0
PRODID:spatie/icalendar-generator
DESCRIPTION:Events from Marcano Racing
X-WR-CALDESC:Events from Marcano Racing
REFRESH-INTERVAL;VALUE=DURATION:PT1440M
X-PUBLISHED-TTL:PT1440M
BEGIN:VTIMEZONE
TZID:America/New_York
BEGIN:STANDARD
DTSTART:20241103T020000Z
TZOFFSETFROM:-0400
TZOFFSETTO:-0500
END:STANDARD
BEGIN:DAYLIGHT
DTSTART:20250309T020000Z
TZOFFSETFROM:-0500
TZOFFSETTO:-0400
END:DAYLIGHT
BEGIN:STANDARD
DTSTART:20251102T020000Z
TZOFFSETFROM:-0400
TZOFFSETTO:-0500
END:STANDARD
END:VTIMEZONE
BEGIN:VTIMEZONE
TZID:UTC
BEGIN:STANDARD
DTSTART:20250725T083550Z
TZOFFSETFROM:+0000
TZOFFSETTO:+0000
END:STANDARD
END:VTIMEZONE
BEGIN:VEVENT
UID:6-6
DTSTAMP:20260421T083550Z
SUMMARY:Colonial Downs – July 11\, 2025
LOCATION:Colonial Downs 10515 Colonial Downs Pkwy  New Kent VA 23124
ORGANIZER;CN=Marco:MAILTO:chrisdennisdev@gmail.com
DTSTART;TZID=America/New_York;VALUE=DATE:20250711
DTEND;TZID=America/New_York;VALUE=DATE:20250712
X-ALT-DESC;FMTTYPE=TEXT/HTML:Race 5 | Inner Turf Honor Mags returns to Colo
 nial Downs partnered with Jorge Ruiz. Mags has been off for repairs and we
  look forward to seeing if his future will be on turf.
CATEGORIES:Honor Mags
URL;VALUE=URI:https://marcanoracing.com/mc-events/colonial-downs-july-11-20
 25/
METHOD:PUBLISH
END:VEVENT
END:VCALENDAR